BEGIN:VCALENDAR
VERSION:2.0
PRODID:-//wp-events-plugin.com//7.2.3.1//EN
TZID:Europe/Zurich
X-WR-TIMEZONE:Europe/Zurich
BEGIN:VEVENT
UID:12@afrikalab.ch
DTSTART;TZID=Europe/Zurich:20250516T190000
DTEND;TZID=Europe/Zurich:20250516T210000
DTSTAMP:20250329T171318Z
URL:https://afrikalab.ch/events/rencontre-avec-rox-session-decoute/
SUMMARY:Rencontre avec Rox - Session d'écoute "Souvenance 3"
DESCRIPTION:Rox \, de son vrai nom Éric Anuar\, est un rappeur genevois ac
 tif depuis 1992. Membre du groupe Le D.U.O. aux côtés de Jonas\, il a é
 galement mené une carrière solo prolifique\, enrichie de plusieurs album
 s\, EP et maxis.\nClique ici pour plus d'infos et t'inscrire
ATTACH;FMTTYPE=image/jpeg:https://afrikalab.ch/wp-content/uploads/2025/03/
 1-2.jpg
CATEGORIES:Rencontres
END:VEVENT
BEGIN:VTIMEZONE
TZID:Europe/Zurich
X-LIC-LOCATION:Europe/Zurich
BEGIN:DAYLIGHT
DTSTART:20250330T030000
TZOFFSETFROM:+0100
TZOFFSETTO:+0200
TZNAME:CEST
END:DAYLIGHT
END:VTIMEZONE
END:VCALENDAR